BEGIN:VCALENDAR
VERSION:2.0
PRODID:-//wp-events-plugin.com//7.2.3.1//EN
TZID:Europe/Berlin
X-WR-TIMEZONE:Europe/Berlin
BEGIN:VEVENT
UID:7@ilove-rostock.de
DTSTART;TZID=Europe/Berlin:20230506T180000
DTEND;TZID=Europe/Berlin:20230506T180000
DTSTAMP:20230118T155642Z
URL:https://ilove-rostock.de/events/dieter-bohlen-live-2023-das-groesste-c
 omeback-aller-zeiten/
SUMMARY:Dieter Bohlen Live 2023 DAS GRÖSSTE COMEBACK ALLER ZEITEN
DESCRIPTION:Bohlen is back. Spätestens am 14. Januar 2023 konnte sich jede
 r davon überzeugen\, dass Dieter Bohlen als Juror bei der finalen Staffel
  DSDS zurückgekehrt ist und er verspricht seinen treuen Fans 2023 eine un
 vergessliche Show im Rahmen seiner Tour.\nAuf seiner letzten Tour kommt Di
 eter Bohlen am 06. Mai 2023 auch nach Rostock. Der Vorverkauf startet am F
 reitag\, den 20. Januar an allen bekannten VVK-Stellen\nMit großer Begeis
 terung wurde die Ankündigung der Tour von Dieter Bohlen im Sommer dieses 
 Jahres deutschlandweit aufgenommen. Was viele Fans schon vermuteten\, hat 
 sich bestätigt: Es wird die letzte Tour des „Pop-Titan“ mit seiner si
 ebenköpfigen Band sein. Doch Dieter Bohlen wäre nicht Dieter Bohlen\, we
 nn er seinen Fans nicht ein besonderes Abschiedsgeschenk bereiten würde.\
 nDieter Bohlen\, Sänger und Produzent\, Pop-Titan\, Moderator\, TV-Größ
 e: Dieser Mann ist aus der Unterhaltungsbranche nicht mehr wegzudenken. Se
 it den 1980er-Jahren jagt ein Erfolg den nächsten\, die Liste seiner Ausz
 eichnungen ist lang. Dieter Bohlen ist der einzige Künstler\, der 25 Numm
 er 1 Hits nachweisen kann und mit über 1.000 Goldenen Schallplatten ausge
 zeichnet wurde.\nDass eine solche Karriere tausende von Fans mit sich brin
 gt ist klar. Generationsübergreifend erfreut sich Dieter Bohlen großer B
 eliebtheit und dieser möchte er auch gerecht werden. „Wenn tausende von
  Menschen Dich Deine ganze Karriere über so treu begleiten\, dann ist es 
 für mich selbstverständlich\, dass ich ihnen bei meiner letzten Tour auc
 h nochmal die Gelegenheit gebe\, gemeinsam mit mir eine unvergessliche Sho
 w zu erleben\,“ so Dieter Bohlen. Auf die Frage\, worauf die Fans sich f
 reuen können\, antwortet er: „Neben meinen Nummer 1 Hits zum Mitsingen 
 und ganz persönlichen\, noch unbekannten Anekdoten aus der Unterhaltungsb
 ranche werde ich einen besonderen Gast mitbringen.\nDas wird unbestritten 
 MEGA!
ATTACH;FMTTYPE=image/jpeg:https://ilove-rostock.de/wp-content/uploads/2023
 /01/C-Stephan-Pick--pickfotografie_dieter-bohlen-konzertfotos-7_kl-1.jp
 g
CATEGORIES:Stadthalle
END:VEVENT
BEGIN:VTIMEZONE
TZID:Europe/Berlin
X-LIC-LOCATION:Europe/Berlin
BEGIN:DAYLIGHT
DTSTART:20230326T030000
TZOFFSETFROM:+0100
TZOFFSETTO:+0200
TZNAME:CEST
END:DAYLIGHT
END:VTIMEZONE
END:VCALENDAR